BEGIN:VCALENDAR
VERSION:2.0
PRODID:-//eventon.com NONSGML v1.0//EN
BEGIN:VEVENT
UID:69ea12c0c0209
DTSTAMP:20260423T143824
DTSTART:20260519T160000Z
DTEND:20260519T180000Z
LOCATION:
SUMMARY:La plus-value de l’expertise du vécu dans le cadre des séances de groupe -  Psychologues de première ligne
DESCRIPTION: Les experts du vécu occupent aujourd’hui une place essentielle dans les soins en santé mentale. Leur perspective unique favorise le lien\,  nourrit l’espoir et renforce l’empowerment des usagers. Dans le cadre de la convention soins psychologiques de première ligne (PPL)\,  ils sont de plus en plus intégrés en tant que[..]
END:VEVENT
END:VCALENDAR