BEGIN:VCALENDAR
VERSION:2.0
PRODID:-//eventon.com NONSGML v1.0//EN
BEGIN:VEVENT
UID:69e73397df862
DTSTAMP:20260421T102143
DTSTART:20240419T070000Z
DTEND:20240419T140000Z
LOCATION:
SUMMARY:Mobilisation citoyenne et réponses institutionnelles : vers une recomposition des liens sociaux ?
DESCRIPTION: Interrogeant les rapports entre mobilisations citoyennes et changements sociétaux\,  l'ABFSA (Association Belge Francophone de Sociologie et d'Anthropologie) organise en partenariat avec la Fédération des Services Sociaux un 3ième Forum des Sciences Sociales. Après une conférence introductive de Mohammed Nachi (Uliège)\,  trois ateliers seront proposés\,  dont l'un s'intitulant "Public en marge[..]
END:VEVENT
END:VCALENDAR