BEGIN:VCALENDAR
VERSION:2.0
PRODID:-//eventon.com NONSGML v1.0//EN
BEGIN:VEVENT
UID:69e748664df52
DTSTAMP:20260421T115030
DTSTART:20240315T160000Z
DTEND:20240315T183000Z
LOCATION:Quai 10  Rue de Montigny 58\,  6000 Charleroi\,  Belgique
SUMMARY:Ciné-débat : "là où les putains n'existent pas" de Ovidie
DESCRIPTION: Médecins du Monde\,  Espace P\,  Femmes de Mars et le Quai 10 s'allient pour proposer une rencontre ciné-débat autour du documentaire "là où les putains n'existent pas" réalisé par Ovidie. Le documentaire fait le récit du meurtre de Eva-Marree Kullander-Smith\,  dite « Jasmine Petite »\,  assassinée de 31 coups de couteau par[..]
END:VEVENT
END:VCALENDAR